BEGIN:VCALENDAR
VERSION:2.0
PRODID:-//Bio-Erlebnistage - ECPv6.15.20//NONSGML v1.0//EN
CALSCALE:GREGORIAN
METHOD:PUBLISH
X-WR-CALNAME:Bio-Erlebnistage
X-ORIGINAL-URL:https://www.bioerlebnistage.de
X-WR-CALDESC:Veranstaltungen für Bio-Erlebnistage
REFRESH-INTERVAL;VALUE=DURATION:PT1H
X-Robots-Tag:noindex
X-PUBLISHED-TTL:PT1H
BEGIN:VTIMEZONE
TZID:Europe/Berlin
BEGIN:DAYLIGHT
TZOFFSETFROM:+0100
TZOFFSETTO:+0200
TZNAME:CEST
DTSTART:20250330T010000
END:DAYLIGHT
BEGIN:STANDARD
TZOFFSETFROM:+0200
TZOFFSETTO:+0100
TZNAME:CET
DTSTART:20251026T010000
END:STANDARD
BEGIN:DAYLIGHT
TZOFFSETFROM:+0100
TZOFFSETTO:+0200
TZNAME:CEST
DTSTART:20260329T010000
END:DAYLIGHT
BEGIN:STANDARD
TZOFFSETFROM:+0200
TZOFFSETTO:+0100
TZNAME:CET
DTSTART:20261025T010000
END:STANDARD
BEGIN:DAYLIGHT
TZOFFSETFROM:+0100
TZOFFSETTO:+0200
TZNAME:CEST
DTSTART:20270328T010000
END:DAYLIGHT
BEGIN:STANDARD
TZOFFSETFROM:+0200
TZOFFSETTO:+0100
TZNAME:CET
DTSTART:20271031T010000
END:STANDARD
END:VTIMEZONE
BEGIN:VEVENT
DTSTART;TZID=Europe/Berlin:20260418T163000
DTEND;TZID=Europe/Berlin:20260419T233000
DTSTAMP:20260423T224904
CREATED:20260423T045645Z
LAST-MODIFIED:20260423T132241Z
UID:10000216-1776529800-1776641400@www.bioerlebnistage.de
SUMMARY:Interner Entwicklungstest Heys
DESCRIPTION:Coole beschreibung der Veranstaltung \nNoch ein kurzer Test mit Abständen
URL:https://www.bioerlebnistage.de/veranstaltung/interner-entwicklungstest/
LOCATION:Name des Ortes\, Schwitter Weg 75\, Menden\, 58706
GEO:51.445931;7.7935876
X-APPLE-STRUCTURED-LOCATION;VALUE=URI;X-ADDRESS=Name des Ortes Schwitter Weg 75 Menden 58706;X-APPLE-RADIUS=500;X-TITLE=Schwitter Weg 75:geo:7.7935876,51.445931
END:VEVENT
END:VCALENDAR